BEGIN:VCALENDAR
VERSION:2.0
PRODID:-//Eventin//Event Calendar//EN
CALSCALE:GREGORIAN
METHOD:PUBLISH
BEGIN:VEVENT
UID:57d7be055a8e042c7c981ef83cbd1a74@carloscoralfinanzas.com
SUMMARY:La Riqueza que Dios Quiere Darte
DESCRIPTION:💛 Evento con causa\nEste evento tiene un propósito mayor.Pa
 rte de lo recaudado será destinado a apoyar a niños con cáncer en colabo
 ración con la Fundación CANICA.\nTu asistencia no solo impacta tu vida…
 también puede impactar la de alguien más.\n \nUn evento que puede transf
 ormar tu manera de ver el dinero… y tu vida.\n💡 “La Riqueza que Dios
  Quiere Darte” no es solo una conferencia.Es una experiencia que combina 
 enseñanza\, reflexión y escenas de teatro para llevarte a cuestionar todo
  lo que creías sobre el dinero\, la fe y tu propósito.\n🙏 En un mundo 
 donde muchos viven en escasez\, este evento te ayudará a descubrir una ver
 dad poderosa:la riqueza no es solo material… también es mental\, emocion
 al y espiritual.\n🔥 A través de una narrativa única\, Carlos Coral te 
 guiará para entender cómo alinear tus decisiones financieras con principi
 os más profundos\, y cómo eso puede cambiar completamente tus resultados.
LOCATION:Foro del Ángel Av. López Mateos esquina con Cubilete\, Zapopan\,
  Jal. (Dentro de Plaza Del Ángel)
DTSTAMP:20260422T093338Z
DTSTART:20260424T020000Z
DTEND:20260424T040000Z
END:VEVENT
END:VCALENDAR
